BEGIN:VCALENDAR
VERSION:2.0
PRODID:-//Bochumer Reiterschaft - ECPv6.15.20//NONSGML v1.0//EN
CALSCALE:GREGORIAN
METHOD:PUBLISH
X-ORIGINAL-URL:https://bochumer-reiterschaft.de
X-WR-CALDESC:Veranstaltungen für Bochumer Reiterschaft
REFRESH-INTERVAL;VALUE=DURATION:PT1H
X-Robots-Tag:noindex
X-PUBLISHED-TTL:PT1H
BEGIN:VTIMEZONE
TZID:Europe/Berlin
BEGIN:DAYLIGHT
TZOFFSETFROM:+0100
TZOFFSETTO:+0200
TZNAME:CEST
DTSTART:20250330T010000
END:DAYLIGHT
BEGIN:STANDARD
TZOFFSETFROM:+0200
TZOFFSETTO:+0100
TZNAME:CET
DTSTART:20251026T010000
END:STANDARD
BEGIN:DAYLIGHT
TZOFFSETFROM:+0100
TZOFFSETTO:+0200
TZNAME:CEST
DTSTART:20260329T010000
END:DAYLIGHT
BEGIN:STANDARD
TZOFFSETFROM:+0200
TZOFFSETTO:+0100
TZNAME:CET
DTSTART:20261025T010000
END:STANDARD
BEGIN:DAYLIGHT
TZOFFSETFROM:+0100
TZOFFSETTO:+0200
TZNAME:CEST
DTSTART:20270328T010000
END:DAYLIGHT
BEGIN:STANDARD
TZOFFSETFROM:+0200
TZOFFSETTO:+0100
TZNAME:CET
DTSTART:20271031T010000
END:STANDARD
END:VTIMEZONE
BEGIN:VEVENT
DTSTART;VALUE=DATE:20261020
DTEND;VALUE=DATE:20261024
DTSTAMP:20260425T215724
CREATED:20260325T160047Z
LAST-MODIFIED:20260325T160047Z
UID:632-1792454400-1792799999@bochumer-reiterschaft.de
SUMMARY:Ferienkurs
DESCRIPTION:Jeweils von 9 bis 13 Uhr für Kinder und Jugendliche. Zusammen mit anderen Pferdenarren sammeln die jungen Reiterinnen und Reiter erste Erfahrungen.
URL:https://bochumer-reiterschaft.de/event/ferienkurs-2/
ATTACH;FMTTYPE=image/jpeg:https://bochumer-reiterschaft.de/wp-content/uploads/2026/03/Kind-mit-Pferd-e1773949401147.jpg
END:VEVENT
BEGIN:VEVENT
DTSTART;TZID=Europe/Berlin:20261204T170000
DTEND;TZID=Europe/Berlin:20261204T190000
DTSTAMP:20260425T215724
CREATED:20260325T160129Z
LAST-MODIFIED:20260325T160231Z
UID:634-1796403600-1796410800@bochumer-reiterschaft.de
SUMMARY:Arbeitsdienst
DESCRIPTION:
URL:https://bochumer-reiterschaft.de/event/arbeitsdienst-3/
ATTACH;FMTTYPE=image/jpeg:https://bochumer-reiterschaft.de/wp-content/uploads/2026/03/Arbeitsdienst-e1774454011532.jpg
END:VEVENT
BEGIN:VEVENT
DTSTART;VALUE=DATE:20261205
DTEND;VALUE=DATE:20261206
DTSTAMP:20260425T215724
CREATED:20260325T160311Z
LAST-MODIFIED:20260325T160311Z
UID:636-1796428800-1796515199@bochumer-reiterschaft.de
SUMMARY:WBO-Reitturnier
DESCRIPTION:
URL:https://bochumer-reiterschaft.de/event/wbo-reitturnier/
ATTACH;FMTTYPE=image/jpeg:https://bochumer-reiterschaft.de/wp-content/uploads/2026/03/Schleife_klein.jpg
END:VEVENT
BEGIN:VEVENT
DTSTART;VALUE=DATE:20261219
DTEND;VALUE=DATE:20261220
DTSTAMP:20260425T215724
CREATED:20260325T160351Z
LAST-MODIFIED:20260325T160351Z
UID:638-1797638400-1797724799@bochumer-reiterschaft.de
SUMMARY:Weihnachtsfeier
DESCRIPTION:
URL:https://bochumer-reiterschaft.de/event/weihnachtsfeier/
ATTACH;FMTTYPE=image/jpeg:https://bochumer-reiterschaft.de/wp-content/uploads/2026/02/Header-quer-scaled.jpg
END:VEVENT
END:VCALENDAR